BEGIN:VCALENDAR
VERSION:2.0
PRODID:-//Mini-Druide - ECPv6.15.20//NONSGML v1.0//EN
CALSCALE:GREGORIAN
METHOD:PUBLISH
X-WR-CALNAME:Mini-Druide
X-ORIGINAL-URL:https://minidruide.ch
X-WR-CALDESC:Évènements pour Mini-Druide
REFRESH-INTERVAL;VALUE=DURATION:PT1H
X-Robots-Tag:noindex
X-PUBLISHED-TTL:PT1H
BEGIN:VTIMEZONE
TZID:Europe/Paris
BEGIN:DAYLIGHT
TZOFFSETFROM:+0100
TZOFFSETTO:+0200
TZNAME:CEST
DTSTART:20250330T010000
END:DAYLIGHT
BEGIN:STANDARD
TZOFFSETFROM:+0200
TZOFFSETTO:+0100
TZNAME:CET
DTSTART:20251026T010000
END:STANDARD
BEGIN:DAYLIGHT
TZOFFSETFROM:+0100
TZOFFSETTO:+0200
TZNAME:CEST
DTSTART:20260329T010000
END:DAYLIGHT
BEGIN:STANDARD
TZOFFSETFROM:+0200
TZOFFSETTO:+0100
TZNAME:CET
DTSTART:20261025T010000
END:STANDARD
BEGIN:DAYLIGHT
TZOFFSETFROM:+0100
TZOFFSETTO:+0200
TZNAME:CEST
DTSTART:20270328T010000
END:DAYLIGHT
BEGIN:STANDARD
TZOFFSETFROM:+0200
TZOFFSETTO:+0100
TZNAME:CET
DTSTART:20271031T010000
END:STANDARD
END:VTIMEZONE
BEGIN:VEVENT
DTSTART;TZID=Europe/Paris:20260430T180000
DTEND;TZID=Europe/Paris:20260430T210000
DTSTAMP:20260423T050753
CREATED:20260327T090433Z
LAST-MODIFIED:20260327T090651Z
UID:4157-1777572000-1777582800@minidruide.ch
SUMMARY:Marché artisanal des Créatrices Suisses - 30 avril à La Chaux-de-Fonds
DESCRIPTION:
URL:https://minidruide.ch/event/marche-artisanal-des-creatrices-suisses-30-avril-a-la-chaux-de-fonds/
LOCATION:INOX Club Bar\, Av. Léopold-Robert 73\, La Chaux-de-Fonds\, 2300\, Switzerland
CATEGORIES:Marché
ATTACH;FMTTYPE=image/jpeg:https://minidruide.ch/wp-content/uploads/MarcheArtisanalInox.jpeg
END:VEVENT
BEGIN:VEVENT
DTSTART;TZID=Europe/Paris:20260523T090000
DTEND;TZID=Europe/Paris:20260523T170000
DTSTAMP:20260423T050753
CREATED:20260420T183446Z
LAST-MODIFIED:20260420T183447Z
UID:4473-1779526800-1779555600@minidruide.ch
SUMMARY:5ème Fête du printemps - 23 mai 2026 à Les Bois
DESCRIPTION:
URL:https://minidruide.ch/event/5eme-fete-du-printemps-23-mai-2026-a-les-bois/
CATEGORIES:Marché
ATTACH;FMTTYPE=image/jpeg:https://minidruide.ch/wp-content/uploads/4702.jpg
END:VEVENT
BEGIN:VEVENT
DTSTART;TZID=Europe/Paris:20260531T100000
DTEND;TZID=Europe/Paris:20260531T170000
DTSTAMP:20260423T050753
CREATED:20260312T195703Z
LAST-MODIFIED:20260312T200258Z
UID:4053-1780221600-1780246800@minidruide.ch
SUMMARY:Marché "FAITES LE PRINTEMPS" – 31 mai 2026 à La Chaux-de-Fonds
DESCRIPTION:Je me réjouis de vous retrouver au marché « FAITES LE PRINTEMPS » qui aura lieu à La Chaux-de-Fonds. \n\n\n\nToutes les infos vont suivre.
URL:https://minidruide.ch/event/marche-faites-le-printemps-31-mai-a-la-chaux-de-fonds/
CATEGORIES:Marché
ATTACH;FMTTYPE=image/jpeg:https://minidruide.ch/wp-content/uploads/641325577_18118034479721146_6449652865122504492_n.jpg
END:VEVENT
END:VCALENDAR